BEGIN:VCALENDAR
VERSION:2.0
PRODID:-//pretix//Booking_We-Host//
BEGIN:VTIMEZONE
TZID:Europe/Zurich
BEGIN:STANDARD
DTSTART:20001029T040000
RRULE:FREQ=YEARLY;BYDAY=-1SU;BYMONTH=10
TZNAME:CET
TZOFFSETFROM:+0200
TZOFFSETTO:+0100
END:STANDARD
BEGIN:DAYLIGHT
DTSTART:20000326T030000
RRULE:FREQ=YEARLY;BYDAY=-1SU;BYMONTH=3
TZNAME:CEST
TZOFFSETFROM:+0100
TZOFFSETTO:+0200
END:DAYLIGHT
END:VTIMEZONE
BEGIN:VEVENT
UID:pretix-schartenhof-brunch-23@booking.schartenhof.ch
DTSTART;TZID=Europe/Zurich:20241006T090000
DTEND;TZID=Europe/Zurich:20241006T120000
DESCRIPTION:Tickets: https://booking.schartenhof.ch/brunch/23/\nVeranstalte
 r: Schartenhof
DTSTAMP:20260421T124320Z
LOCATION:Schartenhof 1\, 4145 Gempen
SUMMARY:Brunch
END:VEVENT
END:VCALENDAR
